BEGIN:VCALENDAR
VERSION:2.0
PRODID:-//Країна Club - ECPv6.15.13.1//NONSGML v1.0//EN
CALSCALE:GREGORIAN
METHOD:PUBLISH
X-ORIGINAL-URL:https://kraina.club
X-WR-CALDESC:Події за Країна Club
REFRESH-INTERVAL;VALUE=DURATION:PT1H
X-Robots-Tag:noindex
X-PUBLISHED-TTL:PT1H
BEGIN:VTIMEZONE
TZID:America/Halifax
BEGIN:DAYLIGHT
TZOFFSETFROM:-0400
TZOFFSETTO:-0300
TZNAME:ADT
DTSTART:20210314T060000
END:DAYLIGHT
BEGIN:STANDARD
TZOFFSETFROM:-0300
TZOFFSETTO:-0400
TZNAME:AST
DTSTART:20211107T050000
END:STANDARD
BEGIN:DAYLIGHT
TZOFFSETFROM:-0400
TZOFFSETTO:-0300
TZNAME:ADT
DTSTART:20220313T060000
END:DAYLIGHT
BEGIN:STANDARD
TZOFFSETFROM:-0300
TZOFFSETTO:-0400
TZNAME:AST
DTSTART:20221106T050000
END:STANDARD
BEGIN:DAYLIGHT
TZOFFSETFROM:-0400
TZOFFSETTO:-0300
TZNAME:ADT
DTSTART:20230312T060000
END:DAYLIGHT
BEGIN:STANDARD
TZOFFSETFROM:-0300
TZOFFSETTO:-0400
TZNAME:AST
DTSTART:20231105T050000
END:STANDARD
END:VTIMEZONE
BEGIN:VTIMEZONE
TZID:Europe/Helsinki
BEGIN:DAYLIGHT
TZOFFSETFROM:+0200
TZOFFSETTO:+0300
TZNAME:EEST
DTSTART:20210328T010000
END:DAYLIGHT
BEGIN:STANDARD
TZOFFSETFROM:+0300
TZOFFSETTO:+0200
TZNAME:EET
DTSTART:20211031T010000
END:STANDARD
BEGIN:DAYLIGHT
TZOFFSETFROM:+0200
TZOFFSETTO:+0300
TZNAME:EEST
DTSTART:20220327T010000
END:DAYLIGHT
BEGIN:STANDARD
TZOFFSETFROM:+0300
TZOFFSETTO:+0200
TZNAME:EET
DTSTART:20221030T010000
END:STANDARD
BEGIN:DAYLIGHT
TZOFFSETFROM:+0200
TZOFFSETTO:+0300
TZNAME:EEST
DTSTART:20230326T010000
END:DAYLIGHT
BEGIN:STANDARD
TZOFFSETFROM:+0300
TZOFFSETTO:+0200
TZNAME:EET
DTSTART:20231029T010000
END:STANDARD
END:VTIMEZONE
BEGIN:VTIMEZONE
TZID:Europe/Moscow
BEGIN:STANDARD
TZOFFSETFROM:+0300
TZOFFSETTO:+0300
TZNAME:MSK
DTSTART:20210101T000000
END:STANDARD
END:VTIMEZONE
BEGIN:VEVENT
DTSTART;TZID=America/Halifax:20220520T163000
DTEND;TZID=America/Halifax:20220520T173000
DTSTAMP:20260422T071826
CREATED:20220519T141551Z
LAST-MODIFIED:20220519T141551Z
UID:1806-1653064200-1653067800@kraina.club
SUMMARY:Варіанти імміграції в США для людей\, яких торкнулася війна в Україні
DESCRIPTION:У прямому ефірі на запитання відповість імміграційний адвокат Еріна Бродська. \nКонференція у форматі “питання та відповіді” з імміграційним адвокатом.\n– Питання можна ставити англійською чи російською мовою\n– Всі питання будуть задаватися у особистих повідомленнях через чат\n– Зустріч записуватиметься\n– Учасники не зможуть увімкнути відео або мікрофони
URL:https://kraina.club/index.php/event/varianty-immihratsii-v-ssha-dlia-liudei-iakykh-torknulasia-viina-v-ukraini/
CATEGORIES:Інтеграція
END:VEVENT
BEGIN:VEVENT
DTSTART;TZID=Europe/Helsinki:20220517T100000
DTEND;TZID=Europe/Helsinki:20220517T150000
DTSTAMP:20260422T071826
CREATED:20220511T015601Z
LAST-MODIFIED:20220511T020333Z
UID:489-1652781600-1652799600@kraina.club
SUMMARY:Ярмарок вакансій «Praca bez granic»
DESCRIPTION:Коли? 17 травня \nДе? ul. Garbary 2\, 85-229 Bydgoszcz \nО котрій годині? 10.00 – 15.00 \nОфіс кар’єри WSG (Вища школа економіки) організовує ярмарок вакансій та інформаційну зустріч для українців\, які змушені були покинути рідну країну через війну. На заході будуть присутні роботодавці\, які запропонують різноманітні вакансії\, а також представники державних установ\, які підготують презентації щодо актуальних питань ринку праці Польщі. \nТелефон для додаткової інформації: +48 525-670-062 \nСайт: www.wsg.byd.pl
URL:https://kraina.club/index.php/event/vacancy-poland-praca-bez-granic/
ATTACH;FMTTYPE=image/jpeg:https://kraina.club/wp-content/uploads/2022/05/27-3.jpg
END:VEVENT
BEGIN:VEVENT
DTSTART;TZID=Europe/Moscow:20220515T170000
DTEND;TZID=Europe/Moscow:20220515T180000
DTSTAMP:20260422T071826
CREATED:20220515T121146Z
LAST-MODIFIED:20220515T121146Z
UID:1702-1652634000-1652637600@kraina.club
SUMMARY:Життя в Естонії. Інструкція для переселенця
DESCRIPTION:🔹На яку фінансову допомогу можуть розраховувати українці в Естонії; \n🔸 Чи може українець зі статусом біженця або маючи тимчасовий захист зареєструвати фірму чи стати ІП?; \n🔹Дізналися про в цілому організацію побуту в Естонії. \nТа інші важливі аспекти для українських переселенці \nЄфір проведе Леся Рабошук\, засновниця G.Bar у Талліні
URL:https://kraina.club/index.php/event/zhyttia-v-estonii-instruktsiia-dlia-pereselentsia/
CATEGORIES:Інтеграція
END:VEVENT
BEGIN:VEVENT
DTSTART;TZID=Europe/Moscow:20220515T100000
DTEND;TZID=Europe/Moscow:20220515T140000
DTSTAMP:20260422T071826
CREATED:20220511T100757Z
LAST-MODIFIED:20220511T143053Z
UID:516-1652608800-1652623200@kraina.club
SUMMARY:Зустріч з представниками ООН у Брюсселі
DESCRIPTION:На зустрічі ви зможете: \n– безпосередньо повідомити про свої поточні проблеми з житлом\, виплатами\, роботою\, навчанням\, медичною допомогою\, підтвердженням дипломів\, доступом до інформації тощо \n– розповісти\, у вирішенні яких проблем вам потрібна допомога \n– взяти участь у формуванні державної програми допомоги українцям у Брюсселі. \n  \nПротягом усього заходу працюватиме дитяча ігрова кімната.
URL:https://kraina.club/index.php/event/meet_brussel/
LOCATION:ULB Campus du Solbosch\, Bâtiment U\, Porte D\,\, Local UD2.218A - Avenue Paul Héger - 1050 Ixelles\, Брюссель\, Belgium
ATTACH;FMTTYPE=image/jpeg:https://kraina.club/wp-content/uploads/2022/05/625d97f715065.jpeg
END:VEVENT
BEGIN:VEVENT
DTSTART;TZID=Europe/Moscow:20220514T080000
DTEND;TZID=Europe/Moscow:20220514T170000
DTSTAMP:20260422T071826
CREATED:20220514T093547Z
LAST-MODIFIED:20220514T093547Z
UID:1644-1652515200-1652547600@kraina.club
SUMMARY:Spoznajme sa hudbou/Познайомимося з музикою
DESCRIPTION:Вас цікавить\, як звучать традиційні словацькі мелодії? Сумуєте за українською музикою та піснями?Запрошуємо провести приємний час зі словацькими родинами в компанії хору @vocalatte.sk та талановитих дівчат з української спільноти в Словаччині.\nЧекаємо вас на нашому заході\, де ми матимемо змогу об’єднати українську та словацьку спільноти\, цього разу під милозвучні тони народної музики обох народів.
URL:https://kraina.club/index.php/event/spoznajme-sa-hudbou-poznaiomymosia-z-muzykoiu/
LOCATION:Rusovská cesta 54 85101 Братислава\, Словакия\, Rusovská cesta 54\, Bratislava\, 85101\, Slovakia (Slovak Republic)
CATEGORIES:Дозвілля,Музика,Спілкування
END:VEVENT
BEGIN:VEVENT
DTSTART;TZID=Europe/Helsinki:20220513T123000
DTEND;TZID=Europe/Helsinki:20220513T150000
DTSTAMP:20260422T071826
CREATED:20220512T001134Z
LAST-MODIFIED:20220512T002942Z
UID:1310-1652445000-1652454000@kraina.club
SUMMARY:Семінар 13.05 з працевлаштування в Кракові
DESCRIPTION:13 травня о 12:30 відбудеться семінар зі складання резюме\, на якому ви дізнаєтеся основні принципи його написання – що варто додати\, а чого уникнути. Також ви отримаєте інформацію\, як зробити Ваше резюме максимально ефективним. \nЗабронювати участь:https://tinyurl.com/mw5a8zen \nЗахід буде проводитись українською мовою та є безкоштовними. \n📍Puszkarska 7f\, Budynek A\, 30-644 Kraków
URL:https://kraina.club/index.php/event/employment-seminars-in-krakow2/
LOCATION:Puszkarska 7f\, Budynek A\, 30-644 Kraków\, Puszkarska 7f\, Budynek A\, Kraków\, 30-644\, Poland
ATTACH;FMTTYPE=image/jpeg:https://kraina.club/wp-content/uploads/2022/05/27-3.jpg
END:VEVENT
BEGIN:VEVENT
DTSTART;TZID=Europe/Helsinki:20220512T133000
DTEND;TZID=Europe/Helsinki:20220512T160000
DTSTAMP:20260422T071826
CREATED:20220512T001157Z
LAST-MODIFIED:20220512T001347Z
UID:1309-1652362200-1652371200@kraina.club
SUMMARY:Семінар 12.05 з працевлаштування в Кракові
DESCRIPTION:HR компанія AMS 12 травня о 13:30 проведе інформаційну зустріч з питань пошуку роботи в Польщі. \nЕксперти компанії підкажуть як користуватися найпопулярнішими місцевими порталами з працевлаштування та нададуть практичні поради про міжнародний портал LinkedIn. \nЗареєструватися для участі можна за посиланням https://tinyurl.com/2nyvh4v5 \nЗахід буде проводитись українською мовою та є безкоштовними. \n📍Puszkarska 7f\, Budynek A\, 30-644 Kraków
URL:https://kraina.club/index.php/event/employment-seminars-in-krakow/
LOCATION:Puszkarska 7f\, Budynek A\, 30-644 Kraków\, Puszkarska 7f\, Budynek A\, Kraków\, 30-644\, Poland
ATTACH;FMTTYPE=image/jpeg:https://kraina.club/wp-content/uploads/2022/05/27-3.jpg
END:VEVENT
END:VCALENDAR